BEGIN:VCALENDAR
VERSION:2.0
PRODID:http://www.kufer.de/kuferweb / DE
METHOD:PUBLISH
CALSCALE:GREGORIAN
X-WR-TIMEZONE:Europe/Berlin
BEGIN:VTIMEZONE
TZID:Europe/Berlin
X-LIC-LOCATION:Europe/Berlin
BEGIN:DAYLIGHT
TZOFFSETFROM:+0100
TZOFFSETTO:+0200
TZNAME:CEST
DTSTART;TZID=Europe/Berlin:19700329T020000
RRULE:FREQ=YEARLY;INTERVAL=1;BYDAY=-1SU;BYMONTH=3
END:DAYLIGHT
BEGIN:STANDARD
TZOFFSETFROM:+0200
TZOFFSETTO:+0100
TZNAME:CET
DTSTART;TZID=Europe/Berlin:19701025T030000
RRULE:FREQ=YEARLY;INTERVAL=1;BYDAY=-1SU;BYMONTH=10
END:STANDARD
END:VTIMEZONE
BEGIN:VEVENT
DTSTAMP:20260422T112500
DTSTART;TZID=Europe/Berlin:20260727T100000
DTEND;TZID=Europe/Berlin:20260727T150000
UID:25KSOFE004-20260727T100000@KSRROSTOCK
SUMMARY:Streifzüge durch die Welt der Kunst-27.07.-31.07.2026 (25KSOFE004) 
LOCATION:1.11 Kunstkantine, Friedrichstraße 23, 18057 Rostock
END:VEVENT
BEGIN:VEVENT
DTSTAMP:20260422T112500
DTSTART;TZID=Europe/Berlin:20260728T100000
DTEND;TZID=Europe/Berlin:20260728T150000
UID:25KSOFE004-20260728T100000@KSRROSTOCK
SUMMARY:Streifzüge durch die Welt der Kunst-27.07.-31.07.2026 (25KSOFE004) 
LOCATION:1.11 Kunstkantine, Friedrichstraße 23, 18057 Rostock
END:VEVENT
BEGIN:VEVENT
DTSTAMP:20260422T112500
DTSTART;TZID=Europe/Berlin:20260729T100000
DTEND;TZID=Europe/Berlin:20260729T150000
UID:25KSOFE004-20260729T100000@KSRROSTOCK
SUMMARY:Streifzüge durch die Welt der Kunst-27.07.-31.07.2026 (25KSOFE004) 
LOCATION:1.11 Kunstkantine, Friedrichstraße 23, 18057 Rostock
END:VEVENT
BEGIN:VEVENT
DTSTAMP:20260422T112500
DTSTART;TZID=Europe/Berlin:20260730T100000
DTEND;TZID=Europe/Berlin:20260730T150000
UID:25KSOFE004-20260730T100000@KSRROSTOCK
SUMMARY:Streifzüge durch die Welt der Kunst-27.07.-31.07.2026 (25KSOFE004) 
LOCATION:1.11 Kunstkantine, Friedrichstraße 23, 18057 Rostock
END:VEVENT
BEGIN:VEVENT
DTSTAMP:20260422T112500
DTSTART;TZID=Europe/Berlin:20260731T100000
DTEND;TZID=Europe/Berlin:20260731T150000
UID:25KSOFE004-20260731T100000@KSRROSTOCK
SUMMARY:Streifzüge durch die Welt der Kunst-27.07.-31.07.2026 (25KSOFE004) 
LOCATION:1.11 Kunstkantine, Friedrichstraße 23, 18057 Rostock
END:VEVENT
END:VCALENDAR