BEGIN:VCALENDAR
VERSION:2.0
PRODID:http://www.kufer.de/kuferweb / DE
METHOD:PUBLISH
CALSCALE:GREGORIAN
X-WR-TIMEZONE:Europe/Berlin
BEGIN:VTIMEZONE
TZID:Europe/Berlin
X-LIC-LOCATION:Europe/Berlin
BEGIN:DAYLIGHT
TZOFFSETFROM:+0100
TZOFFSETTO:+0200
TZNAME:CEST
DTSTART;TZID=Europe/Berlin:19700329T020000
RRULE:FREQ=YEARLY;INTERVAL=1;BYDAY=-1SU;BYMONTH=3
END:DAYLIGHT
BEGIN:STANDARD
TZOFFSETFROM:+0200
TZOFFSETTO:+0100
TZNAME:CET
DTSTART;TZID=Europe/Berlin:19701025T030000
RRULE:FREQ=YEARLY;INTERVAL=1;BYDAY=-1SU;BYMONTH=10
END:STANDARD
END:VTIMEZONE
BEGIN:VEVENT
DTSTAMP:20260421T124258
DTSTART;TZID=Europe/Berlin:20260713T093000
DTEND;TZID=Europe/Berlin:20260713T160000
UID:25KSOFE001-20260713T093000@KSRROSTOCK
SUMMARY:Sommerferien 13.07.-17.07.2026 (25KSOFE001) 
LOCATION:1.02 Druckwerkstatt, Friedrichstraße 23, 18057 Rostock
END:VEVENT
BEGIN:VEVENT
DTSTAMP:20260421T124258
DTSTART;TZID=Europe/Berlin:20260714T093000
DTEND;TZID=Europe/Berlin:20260714T160000
UID:25KSOFE001-20260714T093000@KSRROSTOCK
SUMMARY:Sommerferien 13.07.-17.07.2026 (25KSOFE001) 
LOCATION:1.02 Druckwerkstatt, Friedrichstraße 23, 18057 Rostock
END:VEVENT
BEGIN:VEVENT
DTSTAMP:20260421T124258
DTSTART;TZID=Europe/Berlin:20260715T093000
DTEND;TZID=Europe/Berlin:20260715T160000
UID:25KSOFE001-20260715T093000@KSRROSTOCK
SUMMARY:Sommerferien 13.07.-17.07.2026 (25KSOFE001) 
LOCATION:1.02 Druckwerkstatt, Friedrichstraße 23, 18057 Rostock
END:VEVENT
BEGIN:VEVENT
DTSTAMP:20260421T124258
DTSTART;TZID=Europe/Berlin:20260716T093000
DTEND;TZID=Europe/Berlin:20260716T160000
UID:25KSOFE001-20260716T093000@KSRROSTOCK
SUMMARY:Sommerferien 13.07.-17.07.2026 (25KSOFE001) 
LOCATION:1.02 Druckwerkstatt, Friedrichstraße 23, 18057 Rostock
END:VEVENT
BEGIN:VEVENT
DTSTAMP:20260421T124258
DTSTART;TZID=Europe/Berlin:20260717T093000
DTEND;TZID=Europe/Berlin:20260717T160000
UID:25KSOFE001-20260717T093000@KSRROSTOCK
SUMMARY:Sommerferien 13.07.-17.07.2026 (25KSOFE001) 
LOCATION:1.02 Druckwerkstatt, Friedrichstraße 23, 18057 Rostock
END:VEVENT
END:VCALENDAR