BEGIN:VCALENDAR
VERSION:2.0
PRODID:http://www.kufer.de/kuferweb / DE
METHOD:PUBLISH
CALSCALE:GREGORIAN
X-WR-TIMEZONE:Europe/Berlin
BEGIN:VTIMEZONE
TZID:Europe/Berlin
X-LIC-LOCATION:Europe/Berlin
BEGIN:DAYLIGHT
TZOFFSETFROM:+0100
TZOFFSETTO:+0200
TZNAME:CEST
DTSTART;TZID=Europe/Berlin:19700329T020000
RRULE:FREQ=YEARLY;INTERVAL=1;BYDAY=-1SU;BYMONTH=3
END:DAYLIGHT
BEGIN:STANDARD
TZOFFSETFROM:+0200
TZOFFSETTO:+0100
TZNAME:CET
DTSTART;TZID=Europe/Berlin:19701025T030000
RRULE:FREQ=YEARLY;INTERVAL=1;BYDAY=-1SU;BYMONTH=10
END:STANDARD
END:VTIMEZONE
BEGIN:VEVENT
DTSTAMP:20260422T125828
DTSTART;TZID=Europe/Berlin:20251120T160000
DTEND;TZID=Europe/Berlin:20251120T173000
UID:25K0710018-20251120T160000@KSRROSTOCK
SUMMARY:Zeichenkarussell (25K0710018) 
LOCATION:2.07 AT2 /Schmuckwerkstatt, Friedrichstraße 23, 18057 Rostock
END:VEVENT
BEGIN:VEVENT
DTSTAMP:20260422T125828
DTSTART;TZID=Europe/Berlin:20251127T160000
DTEND;TZID=Europe/Berlin:20251127T173000
UID:25K0710018-20251127T160000@KSRROSTOCK
SUMMARY:Zeichenkarussell (25K0710018) 
LOCATION:2.07 AT2 /Schmuckwerkstatt, Friedrichstraße 23, 18057 Rostock
END:VEVENT
BEGIN:VEVENT
DTSTAMP:20260422T125828
DTSTART;TZID=Europe/Berlin:20251204T160000
DTEND;TZID=Europe/Berlin:20251204T173000
UID:25K0710018-20251204T160000@KSRROSTOCK
SUMMARY:Zeichenkarussell (25K0710018) 
LOCATION:2.07 AT2 /Schmuckwerkstatt, Friedrichstraße 23, 18057 Rostock
END:VEVENT
BEGIN:VEVENT
DTSTAMP:20260422T125828
DTSTART;TZID=Europe/Berlin:20251211T160000
DTEND;TZID=Europe/Berlin:20251211T173000
UID:25K0710018-20251211T160000@KSRROSTOCK
SUMMARY:Zeichenkarussell (25K0710018) 
LOCATION:2.07 AT2 /Schmuckwerkstatt, Friedrichstraße 23, 18057 Rostock
END:VEVENT
BEGIN:VEVENT
DTSTAMP:20260422T125828
DTSTART;TZID=Europe/Berlin:20251218T160000
DTEND;TZID=Europe/Berlin:20251218T173000
UID:25K0710018-20251218T160000@KSRROSTOCK
SUMMARY:Zeichenkarussell (25K0710018) 
LOCATION:2.07 AT2 /Schmuckwerkstatt, Friedrichstraße 23, 18057 Rostock
END:VEVENT
BEGIN:VEVENT
DTSTAMP:20260422T125828
DTSTART;TZID=Europe/Berlin:20260108T160000
DTEND;TZID=Europe/Berlin:20260108T173000
UID:25K0710018-20260108T160000@KSRROSTOCK
SUMMARY:Zeichenkarussell (25K0710018) 
LOCATION:2.07 AT2 /Schmuckwerkstatt, Friedrichstraße 23, 18057 Rostock
END:VEVENT
BEGIN:VEVENT
DTSTAMP:20260422T125828
DTSTART;TZID=Europe/Berlin:20260115T160000
DTEND;TZID=Europe/Berlin:20260115T173000
UID:25K0710018-20260115T160000@KSRROSTOCK
SUMMARY:Zeichenkarussell (25K0710018) 
LOCATION:2.07 AT2 /Schmuckwerkstatt, Friedrichstraße 23, 18057 Rostock
END:VEVENT
BEGIN:VEVENT
DTSTAMP:20260422T125828
DTSTART;TZID=Europe/Berlin:20260122T160000
DTEND;TZID=Europe/Berlin:20260122T173000
UID:25K0710018-20260122T160000@KSRROSTOCK
SUMMARY:Zeichenkarussell (25K0710018) 
LOCATION:2.07 AT2 /Schmuckwerkstatt, Friedrichstraße 23, 18057 Rostock
END:VEVENT
BEGIN:VEVENT
DTSTAMP:20260422T125828
DTSTART;TZID=Europe/Berlin:20260129T160000
DTEND;TZID=Europe/Berlin:20260129T173000
UID:25K0710018-20260129T160000@KSRROSTOCK
SUMMARY:Zeichenkarussell (25K0710018) 
LOCATION:2.07 AT2 /Schmuckwerkstatt, Friedrichstraße 23, 18057 Rostock
END:VEVENT
BEGIN:VEVENT
DTSTAMP:20260422T125828
DTSTART;TZID=Europe/Berlin:20260205T160000
DTEND;TZID=Europe/Berlin:20260205T173000
UID:25K0710018-20260205T160000@KSRROSTOCK
SUMMARY:Zeichenkarussell (25K0710018) 
LOCATION:2.07 AT2 /Schmuckwerkstatt, Friedrichstraße 23, 18057 Rostock
END:VEVENT
BEGIN:VEVENT
DTSTAMP:20260422T125828
DTSTART;TZID=Europe/Berlin:20260226T160000
DTEND;TZID=Europe/Berlin:20260226T173000
UID:25K0710018-20260226T160000@KSRROSTOCK
SUMMARY:Zeichenkarussell (25K0710018) 
LOCATION:2.07 AT2 /Schmuckwerkstatt, Friedrichstraße 23, 18057 Rostock
END:VEVENT
BEGIN:VEVENT
DTSTAMP:20260422T125828
DTSTART;TZID=Europe/Berlin:20260305T160000
DTEND;TZID=Europe/Berlin:20260305T173000
UID:25K0710018-20260305T160000@KSRROSTOCK
SUMMARY:Zeichenkarussell (25K0710018) 
LOCATION:2.07 AT2 /Schmuckwerkstatt, Friedrichstraße 23, 18057 Rostock
END:VEVENT
BEGIN:VEVENT
DTSTAMP:20260422T125828
DTSTART;TZID=Europe/Berlin:20260312T160000
DTEND;TZID=Europe/Berlin:20260312T173000
UID:25K0710018-20260312T160000@KSRROSTOCK
SUMMARY:Zeichenkarussell (25K0710018) 
LOCATION:2.07 AT2 /Schmuckwerkstatt, Friedrichstraße 23, 18057 Rostock
END:VEVENT
BEGIN:VEVENT
DTSTAMP:20260422T125828
DTSTART;TZID=Europe/Berlin:20260319T160000
DTEND;TZID=Europe/Berlin:20260319T173000
UID:25K0710018-20260319T160000@KSRROSTOCK
SUMMARY:Zeichenkarussell (25K0710018) 
LOCATION:2.07 AT2 /Schmuckwerkstatt, Friedrichstraße 23, 18057 Rostock
END:VEVENT
BEGIN:VEVENT
DTSTAMP:20260422T125828
DTSTART;TZID=Europe/Berlin:20260326T160000
DTEND;TZID=Europe/Berlin:20260326T173000
UID:25K0710018-20260326T160000@KSRROSTOCK
SUMMARY:Zeichenkarussell (25K0710018) 
LOCATION:2.07 AT2 /Schmuckwerkstatt, Friedrichstraße 23, 18057 Rostock
END:VEVENT
BEGIN:VEVENT
DTSTAMP:20260422T125828
DTSTART;TZID=Europe/Berlin:20260409T160000
DTEND;TZID=Europe/Berlin:20260409T173000
UID:25K0710018-20260409T160000@KSRROSTOCK
SUMMARY:Zeichenkarussell (25K0710018) 
LOCATION:2.07 AT2 /Schmuckwerkstatt, Friedrichstraße 23, 18057 Rostock
END:VEVENT
BEGIN:VEVENT
DTSTAMP:20260422T125828
DTSTART;TZID=Europe/Berlin:20260416T160000
DTEND;TZID=Europe/Berlin:20260416T173000
UID:25K0710018-20260416T160000@KSRROSTOCK
SUMMARY:Zeichenkarussell (25K0710018) 
LOCATION:2.07 AT2 /Schmuckwerkstatt, Friedrichstraße 23, 18057 Rostock
END:VEVENT
BEGIN:VEVENT
DTSTAMP:20260422T125828
DTSTART;TZID=Europe/Berlin:20260423T160000
DTEND;TZID=Europe/Berlin:20260423T173000
UID:25K0710018-20260423T160000@KSRROSTOCK
SUMMARY:Zeichenkarussell (25K0710018) 
LOCATION:2.07 AT2 /Schmuckwerkstatt, Friedrichstraße 23, 18057 Rostock
END:VEVENT
BEGIN:VEVENT
DTSTAMP:20260422T125828
DTSTART;TZID=Europe/Berlin:20260430T160000
DTEND;TZID=Europe/Berlin:20260430T173000
UID:25K0710018-20260430T160000@KSRROSTOCK
SUMMARY:Zeichenkarussell (25K0710018) 
LOCATION:2.07 AT2 /Schmuckwerkstatt, Friedrichstraße 23, 18057 Rostock
END:VEVENT
BEGIN:VEVENT
DTSTAMP:20260422T125828
DTSTART;TZID=Europe/Berlin:20260507T160000
DTEND;TZID=Europe/Berlin:20260507T173000
UID:25K0710018-20260507T160000@KSRROSTOCK
SUMMARY:Zeichenkarussell (25K0710018) 
LOCATION:2.07 AT2 /Schmuckwerkstatt, Friedrichstraße 23, 18057 Rostock
END:VEVENT
BEGIN:VEVENT
DTSTAMP:20260422T125828
DTSTART;TZID=Europe/Berlin:20260521T160000
DTEND;TZID=Europe/Berlin:20260521T173000
UID:25K0710018-20260521T160000@KSRROSTOCK
SUMMARY:Zeichenkarussell (25K0710018) 
LOCATION:2.07 AT2 /Schmuckwerkstatt, Friedrichstraße 23, 18057 Rostock
END:VEVENT
BEGIN:VEVENT
DTSTAMP:20260422T125828
DTSTART;TZID=Europe/Berlin:20260528T160000
DTEND;TZID=Europe/Berlin:20260528T173000
UID:25K0710018-20260528T160000@KSRROSTOCK
SUMMARY:Zeichenkarussell (25K0710018) 
LOCATION:2.07 AT2 /Schmuckwerkstatt, Friedrichstraße 23, 18057 Rostock
END:VEVENT
BEGIN:VEVENT
DTSTAMP:20260422T125828
DTSTART;TZID=Europe/Berlin:20260604T160000
DTEND;TZID=Europe/Berlin:20260604T173000
UID:25K0710018-20260604T160000@KSRROSTOCK
SUMMARY:Zeichenkarussell (25K0710018) 
LOCATION:2.07 AT2 /Schmuckwerkstatt, Friedrichstraße 23, 18057 Rostock
END:VEVENT
BEGIN:VEVENT
DTSTAMP:20260422T125828
DTSTART;TZID=Europe/Berlin:20260611T160000
DTEND;TZID=Europe/Berlin:20260611T173000
UID:25K0710018-20260611T160000@KSRROSTOCK
SUMMARY:Zeichenkarussell (25K0710018) 
LOCATION:2.07 AT2 /Schmuckwerkstatt, Friedrichstraße 23, 18057 Rostock
END:VEVENT
BEGIN:VEVENT
DTSTAMP:20260422T125828
DTSTART;TZID=Europe/Berlin:20260618T160000
DTEND;TZID=Europe/Berlin:20260618T173000
UID:25K0710018-20260618T160000@KSRROSTOCK
SUMMARY:Zeichenkarussell (25K0710018) 
LOCATION:2.07 AT2 /Schmuckwerkstatt, Friedrichstraße 23, 18057 Rostock
END:VEVENT
BEGIN:VEVENT
DTSTAMP:20260422T125828
DTSTART;TZID=Europe/Berlin:20260625T160000
DTEND;TZID=Europe/Berlin:20260625T173000
UID:25K0710018-20260625T160000@KSRROSTOCK
SUMMARY:Zeichenkarussell (25K0710018) 
LOCATION:2.07 AT2 /Schmuckwerkstatt, Friedrichstraße 23, 18057 Rostock
END:VEVENT
BEGIN:VEVENT
DTSTAMP:20260422T125828
DTSTART;TZID=Europe/Berlin:20260702T160000
DTEND;TZID=Europe/Berlin:20260702T173000
UID:25K0710018-20260702T160000@KSRROSTOCK
SUMMARY:Zeichenkarussell (25K0710018) 
LOCATION:2.07 AT2 /Schmuckwerkstatt, Friedrichstraße 23, 18057 Rostock
END:VEVENT
BEGIN:VEVENT
DTSTAMP:20260422T125828
DTSTART;TZID=Europe/Berlin:20260709T160000
DTEND;TZID=Europe/Berlin:20260709T173000
UID:25K0710018-20260709T160000@KSRROSTOCK
SUMMARY:Zeichenkarussell (25K0710018) 
LOCATION:2.07 AT2 /Schmuckwerkstatt, Friedrichstraße 23, 18057 Rostock
END:VEVENT
END:VCALENDAR