BEGIN:VCALENDAR
VERSION:2.0
PRODID:http://www.kufer.de/kuferweb / DE
METHOD:PUBLISH
CALSCALE:GREGORIAN
X-WR-TIMEZONE:Europe/Berlin
BEGIN:VTIMEZONE
TZID:Europe/Berlin
X-LIC-LOCATION:Europe/Berlin
BEGIN:DAYLIGHT
TZOFFSETFROM:+0100
TZOFFSETTO:+0200
TZNAME:CEST
DTSTART;TZID=Europe/Berlin:19700329T020000
RRULE:FREQ=YEARLY;INTERVAL=1;BYDAY=-1SU;BYMONTH=3
END:DAYLIGHT
BEGIN:STANDARD
TZOFFSETFROM:+0200
TZOFFSETTO:+0100
TZNAME:CET
DTSTART;TZID=Europe/Berlin:19701025T030000
RRULE:FREQ=YEARLY;INTERVAL=1;BYDAY=-1SU;BYMONTH=10
END:STANDARD
END:VTIMEZONE
BEGIN:VEVENT
DTSTAMP:20260421T192523
DTSTART;TZID=Europe/Berlin:20250909T160000
DTEND;TZID=Europe/Berlin:20250909T173000
UID:25K0609004-20250909T160000@KSRROSTOCK
SUMMARY:Ton und Farbe für Kinder II (25K0609004) 
LOCATION:0.06 Keramikwerkstatt, Friedrichstraße 23, 18057 Rostock
END:VEVENT
BEGIN:VEVENT
DTSTAMP:20260421T192523
DTSTART;TZID=Europe/Berlin:20250916T160000
DTEND;TZID=Europe/Berlin:20250916T173000
UID:25K0609004-20250916T160000@KSRROSTOCK
SUMMARY:Ton und Farbe für Kinder II (25K0609004) 
LOCATION:0.06 Keramikwerkstatt, Friedrichstraße 23, 18057 Rostock
END:VEVENT
BEGIN:VEVENT
DTSTAMP:20260421T192523
DTSTART;TZID=Europe/Berlin:20250923T160000
DTEND;TZID=Europe/Berlin:20250923T173000
UID:25K0609004-20250923T160000@KSRROSTOCK
SUMMARY:Ton und Farbe für Kinder II (25K0609004) 
LOCATION:0.06 Keramikwerkstatt, Friedrichstraße 23, 18057 Rostock
END:VEVENT
BEGIN:VEVENT
DTSTAMP:20260421T192523
DTSTART;TZID=Europe/Berlin:20250930T160000
DTEND;TZID=Europe/Berlin:20250930T173000
UID:25K0609004-20250930T160000@KSRROSTOCK
SUMMARY:Ton und Farbe für Kinder II (25K0609004) 
LOCATION:0.06 Keramikwerkstatt, Friedrichstraße 23, 18057 Rostock
END:VEVENT
BEGIN:VEVENT
DTSTAMP:20260421T192523
DTSTART;TZID=Europe/Berlin:20251007T160000
DTEND;TZID=Europe/Berlin:20251007T173000
UID:25K0609004-20251007T160000@KSRROSTOCK
SUMMARY:Ton und Farbe für Kinder II (25K0609004) 
LOCATION:0.06 Keramikwerkstatt, Friedrichstraße 23, 18057 Rostock
END:VEVENT
BEGIN:VEVENT
DTSTAMP:20260421T192523
DTSTART;TZID=Europe/Berlin:20251014T160000
DTEND;TZID=Europe/Berlin:20251014T173000
UID:25K0609004-20251014T160000@KSRROSTOCK
SUMMARY:Ton und Farbe für Kinder II (25K0609004) 
LOCATION:0.06 Keramikwerkstatt, Friedrichstraße 23, 18057 Rostock
END:VEVENT
BEGIN:VEVENT
DTSTAMP:20260421T192523
DTSTART;TZID=Europe/Berlin:20251028T160000
DTEND;TZID=Europe/Berlin:20251028T173000
UID:25K0609004-20251028T160000@KSRROSTOCK
SUMMARY:Ton und Farbe für Kinder II (25K0609004) 
LOCATION:0.06 Keramikwerkstatt, Friedrichstraße 23, 18057 Rostock
END:VEVENT
BEGIN:VEVENT
DTSTAMP:20260421T192523
DTSTART;TZID=Europe/Berlin:20251104T160000
DTEND;TZID=Europe/Berlin:20251104T173000
UID:25K0609004-20251104T160000@KSRROSTOCK
SUMMARY:Ton und Farbe für Kinder II (25K0609004) 
LOCATION:0.06 Keramikwerkstatt, Friedrichstraße 23, 18057 Rostock
END:VEVENT
BEGIN:VEVENT
DTSTAMP:20260421T192523
DTSTART;TZID=Europe/Berlin:20251111T160000
DTEND;TZID=Europe/Berlin:20251111T173000
UID:25K0609004-20251111T160000@KSRROSTOCK
SUMMARY:Ton und Farbe für Kinder II (25K0609004) 
LOCATION:0.06 Keramikwerkstatt, Friedrichstraße 23, 18057 Rostock
END:VEVENT
BEGIN:VEVENT
DTSTAMP:20260421T192523
DTSTART;TZID=Europe/Berlin:20251118T160000
DTEND;TZID=Europe/Berlin:20251118T173000
UID:25K0609004-20251118T160000@KSRROSTOCK
SUMMARY:Ton und Farbe für Kinder II (25K0609004) 
LOCATION:0.06 Keramikwerkstatt, Friedrichstraße 23, 18057 Rostock
END:VEVENT
BEGIN:VEVENT
DTSTAMP:20260421T192523
DTSTART;TZID=Europe/Berlin:20251125T160000
DTEND;TZID=Europe/Berlin:20251125T173000
UID:25K0609004-20251125T160000@KSRROSTOCK
SUMMARY:Ton und Farbe für Kinder II (25K0609004) 
LOCATION:0.06 Keramikwerkstatt, Friedrichstraße 23, 18057 Rostock
END:VEVENT
BEGIN:VEVENT
DTSTAMP:20260421T192523
DTSTART;TZID=Europe/Berlin:20251202T160000
DTEND;TZID=Europe/Berlin:20251202T173000
UID:25K0609004-20251202T160000@KSRROSTOCK
SUMMARY:Ton und Farbe für Kinder II (25K0609004) 
LOCATION:0.06 Keramikwerkstatt, Friedrichstraße 23, 18057 Rostock
END:VEVENT
BEGIN:VEVENT
DTSTAMP:20260421T192523
DTSTART;TZID=Europe/Berlin:20251209T160000
DTEND;TZID=Europe/Berlin:20251209T173000
UID:25K0609004-20251209T160000@KSRROSTOCK
SUMMARY:Ton und Farbe für Kinder II (25K0609004) 
LOCATION:0.06 Keramikwerkstatt, Friedrichstraße 23, 18057 Rostock
END:VEVENT
BEGIN:VEVENT
DTSTAMP:20260421T192523
DTSTART;TZID=Europe/Berlin:20251216T160000
DTEND;TZID=Europe/Berlin:20251216T173000
UID:25K0609004-20251216T160000@KSRROSTOCK
SUMMARY:Ton und Farbe für Kinder II (25K0609004) 
LOCATION:0.06 Keramikwerkstatt, Friedrichstraße 23, 18057 Rostock
END:VEVENT
BEGIN:VEVENT
DTSTAMP:20260421T192523
DTSTART;TZID=Europe/Berlin:20260106T160000
DTEND;TZID=Europe/Berlin:20260106T173000
UID:25K0609004-20260106T160000@KSRROSTOCK
SUMMARY:Ton und Farbe für Kinder II (25K0609004) 
LOCATION:0.06 Keramikwerkstatt, Friedrichstraße 23, 18057 Rostock
END:VEVENT
BEGIN:VEVENT
DTSTAMP:20260421T192523
DTSTART;TZID=Europe/Berlin:20260113T160000
DTEND;TZID=Europe/Berlin:20260113T173000
UID:25K0609004-20260113T160000@KSRROSTOCK
SUMMARY:Ton und Farbe für Kinder II (25K0609004) 
LOCATION:0.06 Keramikwerkstatt, Friedrichstraße 23, 18057 Rostock
END:VEVENT
BEGIN:VEVENT
DTSTAMP:20260421T192523
DTSTART;TZID=Europe/Berlin:20260120T160000
DTEND;TZID=Europe/Berlin:20260120T173000
UID:25K0609004-20260120T160000@KSRROSTOCK
SUMMARY:Ton und Farbe für Kinder II (25K0609004) 
LOCATION:0.06 Keramikwerkstatt, Friedrichstraße 23, 18057 Rostock
END:VEVENT
BEGIN:VEVENT
DTSTAMP:20260421T192523
DTSTART;TZID=Europe/Berlin:20260127T160000
DTEND;TZID=Europe/Berlin:20260127T173000
UID:25K0609004-20260127T160000@KSRROSTOCK
SUMMARY:Ton und Farbe für Kinder II (25K0609004) 
LOCATION:0.06 Keramikwerkstatt, Friedrichstraße 23, 18057 Rostock
END:VEVENT
BEGIN:VEVENT
DTSTAMP:20260421T192523
DTSTART;TZID=Europe/Berlin:20260203T160000
DTEND;TZID=Europe/Berlin:20260203T173000
UID:25K0609004-20260203T160000@KSRROSTOCK
SUMMARY:Ton und Farbe für Kinder II (25K0609004) 
LOCATION:0.06 Keramikwerkstatt, Friedrichstraße 23, 18057 Rostock
END:VEVENT
BEGIN:VEVENT
DTSTAMP:20260421T192523
DTSTART;TZID=Europe/Berlin:20260224T160000
DTEND;TZID=Europe/Berlin:20260224T173000
UID:25K0609004-20260224T160000@KSRROSTOCK
SUMMARY:Ton und Farbe für Kinder II (25K0609004) 
LOCATION:0.06 Keramikwerkstatt, Friedrichstraße 23, 18057 Rostock
END:VEVENT
BEGIN:VEVENT
DTSTAMP:20260421T192523
DTSTART;TZID=Europe/Berlin:20260303T160000
DTEND;TZID=Europe/Berlin:20260303T173000
UID:25K0609004-20260303T160000@KSRROSTOCK
SUMMARY:Ton und Farbe für Kinder II (25K0609004) 
LOCATION:0.06 Keramikwerkstatt, Friedrichstraße 23, 18057 Rostock
END:VEVENT
BEGIN:VEVENT
DTSTAMP:20260421T192523
DTSTART;TZID=Europe/Berlin:20260310T160000
DTEND;TZID=Europe/Berlin:20260310T173000
UID:25K0609004-20260310T160000@KSRROSTOCK
SUMMARY:Ton und Farbe für Kinder II (25K0609004) 
LOCATION:0.06 Keramikwerkstatt, Friedrichstraße 23, 18057 Rostock
END:VEVENT
BEGIN:VEVENT
DTSTAMP:20260421T192523
DTSTART;TZID=Europe/Berlin:20260317T160000
DTEND;TZID=Europe/Berlin:20260317T173000
UID:25K0609004-20260317T160000@KSRROSTOCK
SUMMARY:Ton und Farbe für Kinder II (25K0609004) 
LOCATION:0.06 Keramikwerkstatt, Friedrichstraße 23, 18057 Rostock
END:VEVENT
BEGIN:VEVENT
DTSTAMP:20260421T192523
DTSTART;TZID=Europe/Berlin:20260324T160000
DTEND;TZID=Europe/Berlin:20260324T173000
UID:25K0609004-20260324T160000@KSRROSTOCK
SUMMARY:Ton und Farbe für Kinder II (25K0609004) 
LOCATION:0.06 Keramikwerkstatt, Friedrichstraße 23, 18057 Rostock
END:VEVENT
BEGIN:VEVENT
DTSTAMP:20260421T192523
DTSTART;TZID=Europe/Berlin:20260414T160000
DTEND;TZID=Europe/Berlin:20260414T173000
UID:25K0609004-20260414T160000@KSRROSTOCK
SUMMARY:Ton und Farbe für Kinder II (25K0609004) 
LOCATION:0.06 Keramikwerkstatt, Friedrichstraße 23, 18057 Rostock
END:VEVENT
BEGIN:VEVENT
DTSTAMP:20260421T192523
DTSTART;TZID=Europe/Berlin:20260421T160000
DTEND;TZID=Europe/Berlin:20260421T173000
UID:25K0609004-20260421T160000@KSRROSTOCK
SUMMARY:Ton und Farbe für Kinder II (25K0609004) 
LOCATION:0.06 Keramikwerkstatt, Friedrichstraße 23, 18057 Rostock
END:VEVENT
BEGIN:VEVENT
DTSTAMP:20260421T192523
DTSTART;TZID=Europe/Berlin:20260428T160000
DTEND;TZID=Europe/Berlin:20260428T173000
UID:25K0609004-20260428T160000@KSRROSTOCK
SUMMARY:Ton und Farbe für Kinder II (25K0609004) 
LOCATION:0.06 Keramikwerkstatt, Friedrichstraße 23, 18057 Rostock
END:VEVENT
BEGIN:VEVENT
DTSTAMP:20260421T192523
DTSTART;TZID=Europe/Berlin:20260505T160000
DTEND;TZID=Europe/Berlin:20260505T173000
UID:25K0609004-20260505T160000@KSRROSTOCK
SUMMARY:Ton und Farbe für Kinder II (25K0609004) 
LOCATION:0.06 Keramikwerkstatt, Friedrichstraße 23, 18057 Rostock
END:VEVENT
BEGIN:VEVENT
DTSTAMP:20260421T192523
DTSTART;TZID=Europe/Berlin:20260512T160000
DTEND;TZID=Europe/Berlin:20260512T173000
UID:25K0609004-20260512T160000@KSRROSTOCK
SUMMARY:Ton und Farbe für Kinder II (25K0609004) 
LOCATION:0.06 Keramikwerkstatt, Friedrichstraße 23, 18057 Rostock
END:VEVENT
BEGIN:VEVENT
DTSTAMP:20260421T192523
DTSTART;TZID=Europe/Berlin:20260519T160000
DTEND;TZID=Europe/Berlin:20260519T173000
UID:25K0609004-20260519T160000@KSRROSTOCK
SUMMARY:Ton und Farbe für Kinder II (25K0609004) 
LOCATION:0.06 Keramikwerkstatt, Friedrichstraße 23, 18057 Rostock
END:VEVENT
BEGIN:VEVENT
DTSTAMP:20260421T192523
DTSTART;TZID=Europe/Berlin:20260602T160000
DTEND;TZID=Europe/Berlin:20260602T173000
UID:25K0609004-20260602T160000@KSRROSTOCK
SUMMARY:Ton und Farbe für Kinder II (25K0609004) 
LOCATION:0.06 Keramikwerkstatt, Friedrichstraße 23, 18057 Rostock
END:VEVENT
BEGIN:VEVENT
DTSTAMP:20260421T192523
DTSTART;TZID=Europe/Berlin:20260609T160000
DTEND;TZID=Europe/Berlin:20260609T173000
UID:25K0609004-20260609T160000@KSRROSTOCK
SUMMARY:Ton und Farbe für Kinder II (25K0609004) 
LOCATION:0.06 Keramikwerkstatt, Friedrichstraße 23, 18057 Rostock
END:VEVENT
BEGIN:VEVENT
DTSTAMP:20260421T192523
DTSTART;TZID=Europe/Berlin:20260616T160000
DTEND;TZID=Europe/Berlin:20260616T173000
UID:25K0609004-20260616T160000@KSRROSTOCK
SUMMARY:Ton und Farbe für Kinder II (25K0609004) 
LOCATION:0.06 Keramikwerkstatt, Friedrichstraße 23, 18057 Rostock
END:VEVENT
BEGIN:VEVENT
DTSTAMP:20260421T192523
DTSTART;TZID=Europe/Berlin:20260623T160000
DTEND;TZID=Europe/Berlin:20260623T173000
UID:25K0609004-20260623T160000@KSRROSTOCK
SUMMARY:Ton und Farbe für Kinder II (25K0609004) 
LOCATION:0.06 Keramikwerkstatt, Friedrichstraße 23, 18057 Rostock
END:VEVENT
BEGIN:VEVENT
DTSTAMP:20260421T192523
DTSTART;TZID=Europe/Berlin:20260630T160000
DTEND;TZID=Europe/Berlin:20260630T173000
UID:25K0609004-20260630T160000@KSRROSTOCK
SUMMARY:Ton und Farbe für Kinder II (25K0609004) 
LOCATION:0.06 Keramikwerkstatt, Friedrichstraße 23, 18057 Rostock
END:VEVENT
BEGIN:VEVENT
DTSTAMP:20260421T192523
DTSTART;TZID=Europe/Berlin:20260707T160000
DTEND;TZID=Europe/Berlin:20260707T173000
UID:25K0609004-20260707T160000@KSRROSTOCK
SUMMARY:Ton und Farbe für Kinder II (25K0609004) 
LOCATION:0.06 Keramikwerkstatt, Friedrichstraße 23, 18057 Rostock
END:VEVENT
END:VCALENDAR