BEGIN:VCALENDAR
VERSION:2.0
PRODID:http://www.kufer.de/kuferweb / DE
METHOD:PUBLISH
CALSCALE:GREGORIAN
X-WR-TIMEZONE:Europe/Berlin
BEGIN:VTIMEZONE
TZID:Europe/Berlin
X-LIC-LOCATION:Europe/Berlin
BEGIN:DAYLIGHT
TZOFFSETFROM:+0100
TZOFFSETTO:+0200
TZNAME:CEST
DTSTART;TZID=Europe/Berlin:19700329T020000
RRULE:FREQ=YEARLY;INTERVAL=1;BYDAY=-1SU;BYMONTH=3
END:DAYLIGHT
BEGIN:STANDARD
TZOFFSETFROM:+0200
TZOFFSETTO:+0100
TZNAME:CET
DTSTART;TZID=Europe/Berlin:19701025T030000
RRULE:FREQ=YEARLY;INTERVAL=1;BYDAY=-1SU;BYMONTH=10
END:STANDARD
END:VTIMEZONE
BEGIN:VEVENT
DTSTAMP:20260420T213834
DTSTART;TZID=Europe/Berlin:20250913T100000
DTEND;TZID=Europe/Berlin:20250913T130000
UID:25K0609001-20250913T100000@KSRROSTOCK
SUMMARY:Farbenspiel für Kinder (25K0609001) 
LOCATION:1.07 AT1, Friedrichstraße 23, 18057 Rostock
END:VEVENT
BEGIN:VEVENT
DTSTAMP:20260420T213834
DTSTART;TZID=Europe/Berlin:20250927T100000
DTEND;TZID=Europe/Berlin:20250927T130000
UID:25K0609001-20250927T100000@KSRROSTOCK
SUMMARY:Farbenspiel für Kinder (25K0609001) 
LOCATION:1.07 AT1, Friedrichstraße 23, 18057 Rostock
END:VEVENT
BEGIN:VEVENT
DTSTAMP:20260420T213834
DTSTART;TZID=Europe/Berlin:20251011T100000
DTEND;TZID=Europe/Berlin:20251011T130000
UID:25K0609001-20251011T100000@KSRROSTOCK
SUMMARY:Farbenspiel für Kinder (25K0609001) 
LOCATION:1.07 AT1, Friedrichstraße 23, 18057 Rostock
END:VEVENT
BEGIN:VEVENT
DTSTAMP:20260420T213834
DTSTART;TZID=Europe/Berlin:20251018T100000
DTEND;TZID=Europe/Berlin:20251018T130000
UID:25K0609001-20251018T100000@KSRROSTOCK
SUMMARY:Farbenspiel für Kinder (25K0609001) 
LOCATION:1.07 AT1, Friedrichstraße 23, 18057 Rostock
END:VEVENT
BEGIN:VEVENT
DTSTAMP:20260420T213834
DTSTART;TZID=Europe/Berlin:20251108T100000
DTEND;TZID=Europe/Berlin:20251108T130000
UID:25K0609001-20251108T100000@KSRROSTOCK
SUMMARY:Farbenspiel für Kinder (25K0609001) 
LOCATION:1.07 AT1, Friedrichstraße 23, 18057 Rostock
END:VEVENT
BEGIN:VEVENT
DTSTAMP:20260420T213834
DTSTART;TZID=Europe/Berlin:20251122T100000
DTEND;TZID=Europe/Berlin:20251122T130000
UID:25K0609001-20251122T100000@KSRROSTOCK
SUMMARY:Farbenspiel für Kinder (25K0609001) 
LOCATION:1.07 AT1, Friedrichstraße 23, 18057 Rostock
END:VEVENT
BEGIN:VEVENT
DTSTAMP:20260420T213834
DTSTART;TZID=Europe/Berlin:20251206T100000
DTEND;TZID=Europe/Berlin:20251206T130000
UID:25K0609001-20251206T100000@KSRROSTOCK
SUMMARY:Farbenspiel für Kinder (25K0609001) 
LOCATION:1.07 AT1, Friedrichstraße 23, 18057 Rostock
END:VEVENT
BEGIN:VEVENT
DTSTAMP:20260420T213834
DTSTART;TZID=Europe/Berlin:20251213T100000
DTEND;TZID=Europe/Berlin:20251213T130000
UID:25K0609001-20251213T100000@KSRROSTOCK
SUMMARY:Farbenspiel für Kinder (25K0609001) 
LOCATION:1.07 AT1, Friedrichstraße 23, 18057 Rostock
END:VEVENT
BEGIN:VEVENT
DTSTAMP:20260420T213834
DTSTART;TZID=Europe/Berlin:20260117T100000
DTEND;TZID=Europe/Berlin:20260117T130000
UID:25K0609001-20260117T100000@KSRROSTOCK
SUMMARY:Farbenspiel für Kinder (25K0609001) 
LOCATION:1.07 AT1, Friedrichstraße 23, 18057 Rostock
END:VEVENT
BEGIN:VEVENT
DTSTAMP:20260420T213834
DTSTART;TZID=Europe/Berlin:20260131T100000
DTEND;TZID=Europe/Berlin:20260131T130000
UID:25K0609001-20260131T100000@KSRROSTOCK
SUMMARY:Farbenspiel für Kinder (25K0609001) 
LOCATION:1.07 AT1, Friedrichstraße 23, 18057 Rostock
END:VEVENT
BEGIN:VEVENT
DTSTAMP:20260420T213834
DTSTART;TZID=Europe/Berlin:20260314T100000
DTEND;TZID=Europe/Berlin:20260314T130000
UID:25K0609001-20260314T100000@KSRROSTOCK
SUMMARY:Farbenspiel für Kinder (25K0609001) 
LOCATION:1.07 AT1, Friedrichstraße 23, 18057 Rostock
END:VEVENT
BEGIN:VEVENT
DTSTAMP:20260420T213834
DTSTART;TZID=Europe/Berlin:20260321T100000
DTEND;TZID=Europe/Berlin:20260321T130000
UID:25K0609001-20260321T100000@KSRROSTOCK
SUMMARY:Farbenspiel für Kinder (25K0609001) 
LOCATION:1.07 AT1, Friedrichstraße 23, 18057 Rostock
END:VEVENT
BEGIN:VEVENT
DTSTAMP:20260420T213834
DTSTART;TZID=Europe/Berlin:20260411T100000
DTEND;TZID=Europe/Berlin:20260411T130000
UID:25K0609001-20260411T100000@KSRROSTOCK
SUMMARY:Farbenspiel für Kinder (25K0609001) 
LOCATION:1.07 AT1, Friedrichstraße 23, 18057 Rostock
END:VEVENT
BEGIN:VEVENT
DTSTAMP:20260420T213834
DTSTART;TZID=Europe/Berlin:20260425T100000
DTEND;TZID=Europe/Berlin:20260425T130000
UID:25K0609001-20260425T100000@KSRROSTOCK
SUMMARY:Farbenspiel für Kinder (25K0609001) 
LOCATION:1.07 AT1, Friedrichstraße 23, 18057 Rostock
END:VEVENT
BEGIN:VEVENT
DTSTAMP:20260420T213834
DTSTART;TZID=Europe/Berlin:20260509T100000
DTEND;TZID=Europe/Berlin:20260509T130000
UID:25K0609001-20260509T100000@KSRROSTOCK
SUMMARY:Farbenspiel für Kinder (25K0609001) 
LOCATION:1.07 AT1, Friedrichstraße 23, 18057 Rostock
END:VEVENT
BEGIN:VEVENT
DTSTAMP:20260420T213834
DTSTART;TZID=Europe/Berlin:20260530T100000
DTEND;TZID=Europe/Berlin:20260530T130000
UID:25K0609001-20260530T100000@KSRROSTOCK
SUMMARY:Farbenspiel für Kinder (25K0609001) 
LOCATION:1.07 AT1, Friedrichstraße 23, 18057 Rostock
END:VEVENT
BEGIN:VEVENT
DTSTAMP:20260420T213834
DTSTART;TZID=Europe/Berlin:20260613T100000
DTEND;TZID=Europe/Berlin:20260613T130000
UID:25K0609001-20260613T100000@KSRROSTOCK
SUMMARY:Farbenspiel für Kinder (25K0609001) 
LOCATION:1.07 AT1, Friedrichstraße 23, 18057 Rostock
END:VEVENT
BEGIN:VEVENT
DTSTAMP:20260420T213834
DTSTART;TZID=Europe/Berlin:20260620T100000
DTEND;TZID=Europe/Berlin:20260620T130000
UID:25K0609001-20260620T100000@KSRROSTOCK
SUMMARY:Farbenspiel für Kinder (25K0609001) 
LOCATION:1.07 AT1, Friedrichstraße 23, 18057 Rostock
END:VEVENT
BEGIN:VEVENT
DTSTAMP:20260420T213834
DTSTART;TZID=Europe/Berlin:20260704T100000
DTEND;TZID=Europe/Berlin:20260704T130000
UID:25K0609001-20260704T100000@KSRROSTOCK
SUMMARY:Farbenspiel für Kinder (25K0609001) 
LOCATION:1.07 AT1, Friedrichstraße 23, 18057 Rostock
END:VEVENT
END:VCALENDAR