BEGIN:VCALENDAR
VERSION:2.0
PRODID:http://www.kufer.de/kuferweb / DE
METHOD:PUBLISH
CALSCALE:GREGORIAN
X-WR-TIMEZONE:Europe/Berlin
BEGIN:VTIMEZONE
TZID:Europe/Berlin
X-LIC-LOCATION:Europe/Berlin
BEGIN:DAYLIGHT
TZOFFSETFROM:+0100
TZOFFSETTO:+0200
TZNAME:CEST
DTSTART;TZID=Europe/Berlin:19700329T020000
RRULE:FREQ=YEARLY;INTERVAL=1;BYDAY=-1SU;BYMONTH=3
END:DAYLIGHT
BEGIN:STANDARD
TZOFFSETFROM:+0200
TZOFFSETTO:+0100
TZNAME:CET
DTSTART;TZID=Europe/Berlin:19701025T030000
RRULE:FREQ=YEARLY;INTERVAL=1;BYDAY=-1SU;BYMONTH=10
END:STANDARD
END:VTIMEZONE
BEGIN:VEVENT
DTSTAMP:20260421T123002
DTSTART;TZID=Europe/Berlin:20251014T180000
DTEND;TZID=Europe/Berlin:20251014T210000
UID:25JE505054-20251014T180000@KSRROSTOCK
SUMMARY:SPEZIALKURS - „Postcards from paradise“ Radierung und Buchbinden (25JE505054) 
LOCATION:1.02 Druckwerkstatt, Friedrichstraße 23, 18057 Rostock
END:VEVENT
BEGIN:VEVENT
DTSTAMP:20260421T123002
DTSTART;TZID=Europe/Berlin:20251028T180000
DTEND;TZID=Europe/Berlin:20251028T210000
UID:25JE505054-20251028T180000@KSRROSTOCK
SUMMARY:SPEZIALKURS - „Postcards from paradise“ Radierung und Buchbinden (25JE505054) 
LOCATION:1.02 Druckwerkstatt, Friedrichstraße 23, 18057 Rostock
END:VEVENT
BEGIN:VEVENT
DTSTAMP:20260421T123002
DTSTART;TZID=Europe/Berlin:20251111T180000
DTEND;TZID=Europe/Berlin:20251111T210000
UID:25JE505054-20251111T180000@KSRROSTOCK
SUMMARY:SPEZIALKURS - „Postcards from paradise“ Radierung und Buchbinden (25JE505054) 
LOCATION:1.02 Druckwerkstatt, Friedrichstraße 23, 18057 Rostock
END:VEVENT
BEGIN:VEVENT
DTSTAMP:20260421T123002
DTSTART;TZID=Europe/Berlin:20251125T180000
DTEND;TZID=Europe/Berlin:20251125T210000
UID:25JE505054-20251125T180000@KSRROSTOCK
SUMMARY:SPEZIALKURS - „Postcards from paradise“ Radierung und Buchbinden (25JE505054) 
LOCATION:1.02 Druckwerkstatt, Friedrichstraße 23, 18057 Rostock
END:VEVENT
BEGIN:VEVENT
DTSTAMP:20260421T123002
DTSTART;TZID=Europe/Berlin:20251216T180000
DTEND;TZID=Europe/Berlin:20251216T210000
UID:25JE505054-20251216T180000@KSRROSTOCK
SUMMARY:SPEZIALKURS - „Postcards from paradise“ Radierung und Buchbinden (25JE505054) 
LOCATION:1.02 Druckwerkstatt, Friedrichstraße 23, 18057 Rostock
END:VEVENT
BEGIN:VEVENT
DTSTAMP:20260421T123002
DTSTART;TZID=Europe/Berlin:20260106T180000
DTEND;TZID=Europe/Berlin:20260106T210000
UID:25JE505054-20260106T180000@KSRROSTOCK
SUMMARY:SPEZIALKURS - „Postcards from paradise“ Radierung und Buchbinden (25JE505054) 
LOCATION:1.02 Druckwerkstatt, Friedrichstraße 23, 18057 Rostock
END:VEVENT
BEGIN:VEVENT
DTSTAMP:20260421T123002
DTSTART;TZID=Europe/Berlin:20260120T180000
DTEND;TZID=Europe/Berlin:20260120T210000
UID:25JE505054-20260120T180000@KSRROSTOCK
SUMMARY:SPEZIALKURS - „Postcards from paradise“ Radierung und Buchbinden (25JE505054) 
LOCATION:1.02 Druckwerkstatt, Friedrichstraße 23, 18057 Rostock
END:VEVENT
BEGIN:VEVENT
DTSTAMP:20260421T123002
DTSTART;TZID=Europe/Berlin:20260203T180000
DTEND;TZID=Europe/Berlin:20260203T210000
UID:25JE505054-20260203T180000@KSRROSTOCK
SUMMARY:SPEZIALKURS - „Postcards from paradise“ Radierung und Buchbinden (25JE505054) 
LOCATION:1.02 Druckwerkstatt, Friedrichstraße 23, 18057 Rostock
END:VEVENT
BEGIN:VEVENT
DTSTAMP:20260421T123002
DTSTART;TZID=Europe/Berlin:20260303T180000
DTEND;TZID=Europe/Berlin:20260303T210000
UID:25JE505054-20260303T180000@KSRROSTOCK
SUMMARY:SPEZIALKURS - „Postcards from paradise“ Radierung und Buchbinden (25JE505054) 
LOCATION:1.02 Druckwerkstatt, Friedrichstraße 23, 18057 Rostock
END:VEVENT
BEGIN:VEVENT
DTSTAMP:20260421T123002
DTSTART;TZID=Europe/Berlin:20260317T180000
DTEND;TZID=Europe/Berlin:20260317T210000
UID:25JE505054-20260317T180000@KSRROSTOCK
SUMMARY:SPEZIALKURS - „Postcards from paradise“ Radierung und Buchbinden (25JE505054) 
LOCATION:1.02 Druckwerkstatt, Friedrichstraße 23, 18057 Rostock
END:VEVENT
BEGIN:VEVENT
DTSTAMP:20260421T123002
DTSTART;TZID=Europe/Berlin:20260414T180000
DTEND;TZID=Europe/Berlin:20260414T210000
UID:25JE505054-20260414T180000@KSRROSTOCK
SUMMARY:SPEZIALKURS - „Postcards from paradise“ Radierung und Buchbinden (25JE505054) 
LOCATION:1.02 Druckwerkstatt, Friedrichstraße 23, 18057 Rostock
END:VEVENT
BEGIN:VEVENT
DTSTAMP:20260421T123002
DTSTART;TZID=Europe/Berlin:20260428T180000
DTEND;TZID=Europe/Berlin:20260428T210000
UID:25JE505054-20260428T180000@KSRROSTOCK
SUMMARY:SPEZIALKURS - „Postcards from paradise“ Radierung und Buchbinden (25JE505054) 
LOCATION:1.02 Druckwerkstatt, Friedrichstraße 23, 18057 Rostock
END:VEVENT
BEGIN:VEVENT
DTSTAMP:20260421T123002
DTSTART;TZID=Europe/Berlin:20260519T180000
DTEND;TZID=Europe/Berlin:20260519T210000
UID:25JE505054-20260519T180000@KSRROSTOCK
SUMMARY:SPEZIALKURS - „Postcards from paradise“ Radierung und Buchbinden (25JE505054) 
LOCATION:1.02 Druckwerkstatt, Friedrichstraße 23, 18057 Rostock
END:VEVENT
BEGIN:VEVENT
DTSTAMP:20260421T123002
DTSTART;TZID=Europe/Berlin:20260609T180000
DTEND;TZID=Europe/Berlin:20260609T210000
UID:25JE505054-20260609T180000@KSRROSTOCK
SUMMARY:SPEZIALKURS - „Postcards from paradise“ Radierung und Buchbinden (25JE505054) 
LOCATION:1.02 Druckwerkstatt, Friedrichstraße 23, 18057 Rostock
END:VEVENT
BEGIN:VEVENT
DTSTAMP:20260421T123002
DTSTART;TZID=Europe/Berlin:20260616T180000
DTEND;TZID=Europe/Berlin:20260616T210000
UID:25JE505054-20260616T180000@KSRROSTOCK
DESCRIPTION:Ersatz für 12.05.
SUMMARY:SPEZIALKURS - „Postcards from paradise“ Radierung und Buchbinden (25JE505054) 
LOCATION:1.02 Druckwerkstatt, Friedrichstraße 23, 18057 Rostock
END:VEVENT
BEGIN:VEVENT
DTSTAMP:20260421T123002
DTSTART;TZID=Europe/Berlin:20260623T180000
DTEND;TZID=Europe/Berlin:20260623T210000
UID:25JE505054-20260623T180000@KSRROSTOCK
SUMMARY:SPEZIALKURS - „Postcards from paradise“ Radierung und Buchbinden (25JE505054) 
LOCATION:1.02 Druckwerkstatt, Friedrichstraße 23, 18057 Rostock
END:VEVENT
BEGIN:VEVENT
DTSTAMP:20260421T123002
DTSTART;TZID=Europe/Berlin:20260707T180000
DTEND;TZID=Europe/Berlin:20260707T210000
UID:25JE505054-20260707T180000@KSRROSTOCK
SUMMARY:SPEZIALKURS - „Postcards from paradise“ Radierung und Buchbinden (25JE505054) 
LOCATION:1.02 Druckwerkstatt, Friedrichstraße 23, 18057 Rostock
END:VEVENT
END:VCALENDAR