BEGIN:VCALENDAR
VERSION:2.0
PRODID:http://www.kufer.de/kuferweb / DE
METHOD:PUBLISH
CALSCALE:GREGORIAN
X-WR-TIMEZONE:Europe/Berlin
BEGIN:VTIMEZONE
TZID:Europe/Berlin
X-LIC-LOCATION:Europe/Berlin
BEGIN:DAYLIGHT
TZOFFSETFROM:+0100
TZOFFSETTO:+0200
TZNAME:CEST
DTSTART;TZID=Europe/Berlin:19700329T020000
RRULE:FREQ=YEARLY;INTERVAL=1;BYDAY=-1SU;BYMONTH=3
END:DAYLIGHT
BEGIN:STANDARD
TZOFFSETFROM:+0200
TZOFFSETTO:+0100
TZNAME:CET
DTSTART;TZID=Europe/Berlin:19701025T030000
RRULE:FREQ=YEARLY;INTERVAL=1;BYDAY=-1SU;BYMONTH=10
END:STANDARD
END:VTIMEZONE
BEGIN:VEVENT
DTSTAMP:20260420T181754
DTSTART;TZID=Europe/Berlin:20251015T100000
DTEND;TZID=Europe/Berlin:20251015T130000
UID:25JE505051-20251015T100000@KSRROSTOCK
SUMMARY:Radierung für Einsteiger u. Fortgeschrittene I (25JE505051) 
LOCATION:1.02 Druckwerkstatt, Friedrichstraße 23, 18057 Rostock
END:VEVENT
BEGIN:VEVENT
DTSTAMP:20260420T181754
DTSTART;TZID=Europe/Berlin:20251029T100000
DTEND;TZID=Europe/Berlin:20251029T130000
UID:25JE505051-20251029T100000@KSRROSTOCK
SUMMARY:Radierung für Einsteiger u. Fortgeschrittene I (25JE505051) 
LOCATION:1.02 Druckwerkstatt, Friedrichstraße 23, 18057 Rostock
END:VEVENT
BEGIN:VEVENT
DTSTAMP:20260420T181754
DTSTART;TZID=Europe/Berlin:20251112T100000
DTEND;TZID=Europe/Berlin:20251112T130000
UID:25JE505051-20251112T100000@KSRROSTOCK
SUMMARY:Radierung für Einsteiger u. Fortgeschrittene I (25JE505051) 
LOCATION:1.02 Druckwerkstatt, Friedrichstraße 23, 18057 Rostock
END:VEVENT
BEGIN:VEVENT
DTSTAMP:20260420T181754
DTSTART;TZID=Europe/Berlin:20251126T100000
DTEND;TZID=Europe/Berlin:20251126T130000
UID:25JE505051-20251126T100000@KSRROSTOCK
SUMMARY:Radierung für Einsteiger u. Fortgeschrittene I (25JE505051) 
LOCATION:1.02 Druckwerkstatt, Friedrichstraße 23, 18057 Rostock
END:VEVENT
BEGIN:VEVENT
DTSTAMP:20260420T181754
DTSTART;TZID=Europe/Berlin:20251210T100000
DTEND;TZID=Europe/Berlin:20251210T130000
UID:25JE505051-20251210T100000@KSRROSTOCK
SUMMARY:Radierung für Einsteiger u. Fortgeschrittene I (25JE505051) 
LOCATION:1.02 Druckwerkstatt, Friedrichstraße 23, 18057 Rostock
END:VEVENT
BEGIN:VEVENT
DTSTAMP:20260420T181754
DTSTART;TZID=Europe/Berlin:20260107T100000
DTEND;TZID=Europe/Berlin:20260107T130000
UID:25JE505051-20260107T100000@KSRROSTOCK
SUMMARY:Radierung für Einsteiger u. Fortgeschrittene I (25JE505051) 
LOCATION:1.02 Druckwerkstatt, Friedrichstraße 23, 18057 Rostock
END:VEVENT
BEGIN:VEVENT
DTSTAMP:20260420T181754
DTSTART;TZID=Europe/Berlin:20260114T100000
DTEND;TZID=Europe/Berlin:20260114T130000
UID:25JE505051-20260114T100000@KSRROSTOCK
SUMMARY:Radierung für Einsteiger u. Fortgeschrittene I (25JE505051) 
LOCATION:1.02 Druckwerkstatt, Friedrichstraße 23, 18057 Rostock
END:VEVENT
BEGIN:VEVENT
DTSTAMP:20260420T181754
DTSTART;TZID=Europe/Berlin:20260204T100000
DTEND;TZID=Europe/Berlin:20260204T130000
UID:25JE505051-20260204T100000@KSRROSTOCK
SUMMARY:Radierung für Einsteiger u. Fortgeschrittene I (25JE505051) 
LOCATION:1.02 Druckwerkstatt, Friedrichstraße 23, 18057 Rostock
END:VEVENT
BEGIN:VEVENT
DTSTAMP:20260420T181754
DTSTART;TZID=Europe/Berlin:20260304T100000
DTEND;TZID=Europe/Berlin:20260304T130000
UID:25JE505051-20260304T100000@KSRROSTOCK
SUMMARY:Radierung für Einsteiger u. Fortgeschrittene I (25JE505051) 
LOCATION:1.02 Druckwerkstatt, Friedrichstraße 23, 18057 Rostock
END:VEVENT
BEGIN:VEVENT
DTSTAMP:20260420T181754
DTSTART;TZID=Europe/Berlin:20260318T100000
DTEND;TZID=Europe/Berlin:20260318T130000
UID:25JE505051-20260318T100000@KSRROSTOCK
SUMMARY:Radierung für Einsteiger u. Fortgeschrittene I (25JE505051) 
LOCATION:1.02 Druckwerkstatt, Friedrichstraße 23, 18057 Rostock
END:VEVENT
BEGIN:VEVENT
DTSTAMP:20260420T181754
DTSTART;TZID=Europe/Berlin:20260408T100000
DTEND;TZID=Europe/Berlin:20260408T130000
UID:25JE505051-20260408T100000@KSRROSTOCK
DESCRIPTION:Ersatz für 24.4.
SUMMARY:Radierung für Einsteiger u. Fortgeschrittene I (25JE505051) 
LOCATION:1.02 Druckwerkstatt, Friedrichstraße 23, 18057 Rostock
END:VEVENT
BEGIN:VEVENT
DTSTAMP:20260420T181754
DTSTART;TZID=Europe/Berlin:20260415T100000
DTEND;TZID=Europe/Berlin:20260415T130000
UID:25JE505051-20260415T100000@KSRROSTOCK
SUMMARY:Radierung für Einsteiger u. Fortgeschrittene I (25JE505051) 
LOCATION:1.02 Druckwerkstatt, Friedrichstraße 23, 18057 Rostock
END:VEVENT
BEGIN:VEVENT
DTSTAMP:20260420T181754
DTSTART;TZID=Europe/Berlin:20260520T100000
DTEND;TZID=Europe/Berlin:20260520T130000
UID:25JE505051-20260520T100000@KSRROSTOCK
DESCRIPTION:Ersatz für 13.05.
SUMMARY:Radierung für Einsteiger u. Fortgeschrittene I (25JE505051) 
LOCATION:1.02 Druckwerkstatt, Friedrichstraße 23, 18057 Rostock
END:VEVENT
BEGIN:VEVENT
DTSTAMP:20260420T181754
DTSTART;TZID=Europe/Berlin:20260527T100000
DTEND;TZID=Europe/Berlin:20260527T130000
UID:25JE505051-20260527T100000@KSRROSTOCK
SUMMARY:Radierung für Einsteiger u. Fortgeschrittene I (25JE505051) 
LOCATION:1.02 Druckwerkstatt, Friedrichstraße 23, 18057 Rostock
END:VEVENT
BEGIN:VEVENT
DTSTAMP:20260420T181754
DTSTART;TZID=Europe/Berlin:20260610T100000
DTEND;TZID=Europe/Berlin:20260610T130000
UID:25JE505051-20260610T100000@KSRROSTOCK
SUMMARY:Radierung für Einsteiger u. Fortgeschrittene I (25JE505051) 
LOCATION:1.02 Druckwerkstatt, Friedrichstraße 23, 18057 Rostock
END:VEVENT
BEGIN:VEVENT
DTSTAMP:20260420T181754
DTSTART;TZID=Europe/Berlin:20260624T100000
DTEND;TZID=Europe/Berlin:20260624T130000
UID:25JE505051-20260624T100000@KSRROSTOCK
SUMMARY:Radierung für Einsteiger u. Fortgeschrittene I (25JE505051) 
LOCATION:1.02 Druckwerkstatt, Friedrichstraße 23, 18057 Rostock
END:VEVENT
BEGIN:VEVENT
DTSTAMP:20260420T181754
DTSTART;TZID=Europe/Berlin:20260708T100000
DTEND;TZID=Europe/Berlin:20260708T130000
UID:25JE505051-20260708T100000@KSRROSTOCK
SUMMARY:Radierung für Einsteiger u. Fortgeschrittene I (25JE505051) 
LOCATION:1.02 Druckwerkstatt, Friedrichstraße 23, 18057 Rostock
END:VEVENT
END:VCALENDAR