BEGIN:VCALENDAR
VERSION:2.0
PRODID:http://www.kufer.de/kuferweb / DE
METHOD:PUBLISH
CALSCALE:GREGORIAN
X-WR-TIMEZONE:Europe/Berlin
BEGIN:VTIMEZONE
TZID:Europe/Berlin
X-LIC-LOCATION:Europe/Berlin
BEGIN:DAYLIGHT
TZOFFSETFROM:+0100
TZOFFSETTO:+0200
TZNAME:CEST
DTSTART;TZID=Europe/Berlin:19700329T020000
RRULE:FREQ=YEARLY;INTERVAL=1;BYDAY=-1SU;BYMONTH=3
END:DAYLIGHT
BEGIN:STANDARD
TZOFFSETFROM:+0200
TZOFFSETTO:+0100
TZNAME:CET
DTSTART;TZID=Europe/Berlin:19701025T030000
RRULE:FREQ=YEARLY;INTERVAL=1;BYDAY=-1SU;BYMONTH=10
END:STANDARD
END:VTIMEZONE
BEGIN:VEVENT
DTSTAMP:20260420T105117
DTSTART;TZID=Europe/Berlin:20250915T173000
DTEND;TZID=Europe/Berlin:20250915T203000
UID:25E1010102-20250915T173000@KSRROSTOCK
SUMMARY:Offene Fotowerkstatt - SCHWARZ+ WEIß (25E1010102) 
LOCATION:1.01 Fotowerkstatt, Friedrichstraße 23, 18057 Rostock
END:VEVENT
BEGIN:VEVENT
DTSTAMP:20260420T105117
DTSTART;TZID=Europe/Berlin:20250923T173000
DTEND;TZID=Europe/Berlin:20250923T203000
UID:25E1010102-20250923T173000@KSRROSTOCK
SUMMARY:Offene Fotowerkstatt - SCHWARZ+ WEIß (25E1010102) 
LOCATION:1.01 Fotowerkstatt, Friedrichstraße 23, 18057 Rostock
END:VEVENT
BEGIN:VEVENT
DTSTAMP:20260420T105117
DTSTART;TZID=Europe/Berlin:20250929T173000
DTEND;TZID=Europe/Berlin:20250929T203000
UID:25E1010102-20250929T173000@KSRROSTOCK
SUMMARY:Offene Fotowerkstatt - SCHWARZ+ WEIß (25E1010102) 
LOCATION:1.01 Fotowerkstatt, Friedrichstraße 23, 18057 Rostock
END:VEVENT
BEGIN:VEVENT
DTSTAMP:20260420T105117
DTSTART;TZID=Europe/Berlin:20251007T173000
DTEND;TZID=Europe/Berlin:20251007T203000
UID:25E1010102-20251007T173000@KSRROSTOCK
SUMMARY:Offene Fotowerkstatt - SCHWARZ+ WEIß (25E1010102) 
LOCATION:1.01 Fotowerkstatt, Friedrichstraße 23, 18057 Rostock
END:VEVENT
BEGIN:VEVENT
DTSTAMP:20260420T105117
DTSTART;TZID=Europe/Berlin:20251013T173000
DTEND;TZID=Europe/Berlin:20251013T203000
UID:25E1010102-20251013T173000@KSRROSTOCK
SUMMARY:Offene Fotowerkstatt - SCHWARZ+ WEIß (25E1010102) 
LOCATION:1.01 Fotowerkstatt, Friedrichstraße 23, 18057 Rostock
END:VEVENT
BEGIN:VEVENT
DTSTAMP:20260420T105117
DTSTART;TZID=Europe/Berlin:20251028T173000
DTEND;TZID=Europe/Berlin:20251028T203000
UID:25E1010102-20251028T173000@KSRROSTOCK
SUMMARY:Offene Fotowerkstatt - SCHWARZ+ WEIß (25E1010102) 
LOCATION:1.01 Fotowerkstatt, Friedrichstraße 23, 18057 Rostock
END:VEVENT
BEGIN:VEVENT
DTSTAMP:20260420T105117
DTSTART;TZID=Europe/Berlin:20251103T173000
DTEND;TZID=Europe/Berlin:20251103T203000
UID:25E1010102-20251103T173000@KSRROSTOCK
SUMMARY:Offene Fotowerkstatt - SCHWARZ+ WEIß (25E1010102) 
LOCATION:1.01 Fotowerkstatt, Friedrichstraße 23, 18057 Rostock
END:VEVENT
BEGIN:VEVENT
DTSTAMP:20260420T105117
DTSTART;TZID=Europe/Berlin:20251110T173000
DTEND;TZID=Europe/Berlin:20251110T203000
UID:25E1010102-20251110T173000@KSRROSTOCK
SUMMARY:Offene Fotowerkstatt - SCHWARZ+ WEIß (25E1010102) 
LOCATION:1.01 Fotowerkstatt, Friedrichstraße 23, 18057 Rostock
END:VEVENT
BEGIN:VEVENT
DTSTAMP:20260420T105117
DTSTART;TZID=Europe/Berlin:20251124T173000
DTEND;TZID=Europe/Berlin:20251124T203000
UID:25E1010102-20251124T173000@KSRROSTOCK
SUMMARY:Offene Fotowerkstatt - SCHWARZ+ WEIß (25E1010102) 
LOCATION:1.01 Fotowerkstatt, Friedrichstraße 23, 18057 Rostock
END:VEVENT
BEGIN:VEVENT
DTSTAMP:20260420T105117
DTSTART;TZID=Europe/Berlin:20251202T173000
DTEND;TZID=Europe/Berlin:20251202T203000
UID:25E1010102-20251202T173000@KSRROSTOCK
SUMMARY:Offene Fotowerkstatt - SCHWARZ+ WEIß (25E1010102) 
LOCATION:1.01 Fotowerkstatt, Friedrichstraße 23, 18057 Rostock
END:VEVENT
BEGIN:VEVENT
DTSTAMP:20260420T105117
DTSTART;TZID=Europe/Berlin:20251208T173000
DTEND;TZID=Europe/Berlin:20251208T203000
UID:25E1010102-20251208T173000@KSRROSTOCK
SUMMARY:Offene Fotowerkstatt - SCHWARZ+ WEIß (25E1010102) 
LOCATION:1.01 Fotowerkstatt, Friedrichstraße 23, 18057 Rostock
END:VEVENT
BEGIN:VEVENT
DTSTAMP:20260420T105117
DTSTART;TZID=Europe/Berlin:20251215T173000
DTEND;TZID=Europe/Berlin:20251215T203000
UID:25E1010102-20251215T173000@KSRROSTOCK
SUMMARY:Offene Fotowerkstatt - SCHWARZ+ WEIß (25E1010102) 
LOCATION:1.01 Fotowerkstatt, Friedrichstraße 23, 18057 Rostock
END:VEVENT
BEGIN:VEVENT
DTSTAMP:20260420T105117
DTSTART;TZID=Europe/Berlin:20260113T173000
DTEND;TZID=Europe/Berlin:20260113T203000
UID:25E1010102-20260113T173000@KSRROSTOCK
SUMMARY:Offene Fotowerkstatt - SCHWARZ+ WEIß (25E1010102) 
LOCATION:1.01 Fotowerkstatt, Friedrichstraße 23, 18057 Rostock
END:VEVENT
BEGIN:VEVENT
DTSTAMP:20260420T105117
DTSTART;TZID=Europe/Berlin:20260119T173000
DTEND;TZID=Europe/Berlin:20260119T203000
UID:25E1010102-20260119T173000@KSRROSTOCK
SUMMARY:Offene Fotowerkstatt - SCHWARZ+ WEIß (25E1010102) 
LOCATION:1.01 Fotowerkstatt, Friedrichstraße 23, 18057 Rostock
END:VEVENT
BEGIN:VEVENT
DTSTAMP:20260420T105117
DTSTART;TZID=Europe/Berlin:20260127T173000
DTEND;TZID=Europe/Berlin:20260127T203000
UID:25E1010102-20260127T173000@KSRROSTOCK
SUMMARY:Offene Fotowerkstatt - SCHWARZ+ WEIß (25E1010102) 
LOCATION:1.01 Fotowerkstatt, Friedrichstraße 23, 18057 Rostock
END:VEVENT
BEGIN:VEVENT
DTSTAMP:20260420T105117
DTSTART;TZID=Europe/Berlin:20260202T173000
DTEND;TZID=Europe/Berlin:20260202T203000
UID:25E1010102-20260202T173000@KSRROSTOCK
SUMMARY:Offene Fotowerkstatt - SCHWARZ+ WEIß (25E1010102) 
LOCATION:1.01 Fotowerkstatt, Friedrichstraße 23, 18057 Rostock
END:VEVENT
BEGIN:VEVENT
DTSTAMP:20260420T105117
DTSTART;TZID=Europe/Berlin:20260224T173000
DTEND;TZID=Europe/Berlin:20260224T203000
UID:25E1010102-20260224T173000@KSRROSTOCK
SUMMARY:Offene Fotowerkstatt - SCHWARZ+ WEIß (25E1010102) 
LOCATION:1.01 Fotowerkstatt, Friedrichstraße 23, 18057 Rostock
END:VEVENT
BEGIN:VEVENT
DTSTAMP:20260420T105117
DTSTART;TZID=Europe/Berlin:20260303T173000
DTEND;TZID=Europe/Berlin:20260303T203000
UID:25E1010102-20260303T173000@KSRROSTOCK
SUMMARY:Offene Fotowerkstatt - SCHWARZ+ WEIß (25E1010102) 
LOCATION:1.01 Fotowerkstatt, Friedrichstraße 23, 18057 Rostock
END:VEVENT
BEGIN:VEVENT
DTSTAMP:20260420T105117
DTSTART;TZID=Europe/Berlin:20260309T173000
DTEND;TZID=Europe/Berlin:20260309T203000
UID:25E1010102-20260309T173000@KSRROSTOCK
SUMMARY:Offene Fotowerkstatt - SCHWARZ+ WEIß (25E1010102) 
LOCATION:1.01 Fotowerkstatt, Friedrichstraße 23, 18057 Rostock
END:VEVENT
BEGIN:VEVENT
DTSTAMP:20260420T105117
DTSTART;TZID=Europe/Berlin:20260316T173000
DTEND;TZID=Europe/Berlin:20260316T203000
UID:25E1010102-20260316T173000@KSRROSTOCK
SUMMARY:Offene Fotowerkstatt - SCHWARZ+ WEIß (25E1010102) 
LOCATION:1.01 Fotowerkstatt, Friedrichstraße 23, 18057 Rostock
END:VEVENT
BEGIN:VEVENT
DTSTAMP:20260420T105117
DTSTART;TZID=Europe/Berlin:20260324T173000
DTEND;TZID=Europe/Berlin:20260324T203000
UID:25E1010102-20260324T173000@KSRROSTOCK
SUMMARY:Offene Fotowerkstatt - SCHWARZ+ WEIß (25E1010102) 
LOCATION:1.01 Fotowerkstatt, Friedrichstraße 23, 18057 Rostock
END:VEVENT
BEGIN:VEVENT
DTSTAMP:20260420T105117
DTSTART;TZID=Europe/Berlin:20260420T173000
DTEND;TZID=Europe/Berlin:20260420T203000
UID:25E1010102-20260420T173000@KSRROSTOCK
SUMMARY:Offene Fotowerkstatt - SCHWARZ+ WEIß (25E1010102) 
LOCATION:1.01 Fotowerkstatt, Friedrichstraße 23, 18057 Rostock
END:VEVENT
BEGIN:VEVENT
DTSTAMP:20260420T105117
DTSTART;TZID=Europe/Berlin:20260427T173000
DTEND;TZID=Europe/Berlin:20260427T203000
UID:25E1010102-20260427T173000@KSRROSTOCK
SUMMARY:Offene Fotowerkstatt - SCHWARZ+ WEIß (25E1010102) 
LOCATION:1.01 Fotowerkstatt, Friedrichstraße 23, 18057 Rostock
END:VEVENT
BEGIN:VEVENT
DTSTAMP:20260420T105117
DTSTART;TZID=Europe/Berlin:20260504T173000
DTEND;TZID=Europe/Berlin:20260504T203000
UID:25E1010102-20260504T173000@KSRROSTOCK
SUMMARY:Offene Fotowerkstatt - SCHWARZ+ WEIß (25E1010102) 
LOCATION:1.01 Fotowerkstatt, Friedrichstraße 23, 18057 Rostock
END:VEVENT
BEGIN:VEVENT
DTSTAMP:20260420T105117
DTSTART;TZID=Europe/Berlin:20260511T173000
DTEND;TZID=Europe/Berlin:20260511T203000
UID:25E1010102-20260511T173000@KSRROSTOCK
SUMMARY:Offene Fotowerkstatt - SCHWARZ+ WEIß (25E1010102) 
LOCATION:1.01 Fotowerkstatt, Friedrichstraße 23, 18057 Rostock
END:VEVENT
BEGIN:VEVENT
DTSTAMP:20260420T105117
DTSTART;TZID=Europe/Berlin:20260518T173000
DTEND;TZID=Europe/Berlin:20260518T203000
UID:25E1010102-20260518T173000@KSRROSTOCK
SUMMARY:Offene Fotowerkstatt - SCHWARZ+ WEIß (25E1010102) 
LOCATION:1.01 Fotowerkstatt, Friedrichstraße 23, 18057 Rostock
END:VEVENT
BEGIN:VEVENT
DTSTAMP:20260420T105117
DTSTART;TZID=Europe/Berlin:20260602T173000
DTEND;TZID=Europe/Berlin:20260602T203000
UID:25E1010102-20260602T173000@KSRROSTOCK
SUMMARY:Offene Fotowerkstatt - SCHWARZ+ WEIß (25E1010102) 
LOCATION:1.01 Fotowerkstatt, Friedrichstraße 23, 18057 Rostock
END:VEVENT
BEGIN:VEVENT
DTSTAMP:20260420T105117
DTSTART;TZID=Europe/Berlin:20260608T173000
DTEND;TZID=Europe/Berlin:20260608T203000
UID:25E1010102-20260608T173000@KSRROSTOCK
SUMMARY:Offene Fotowerkstatt - SCHWARZ+ WEIß (25E1010102) 
LOCATION:1.01 Fotowerkstatt, Friedrichstraße 23, 18057 Rostock
END:VEVENT
BEGIN:VEVENT
DTSTAMP:20260420T105117
DTSTART;TZID=Europe/Berlin:20260616T173000
DTEND;TZID=Europe/Berlin:20260616T203000
UID:25E1010102-20260616T173000@KSRROSTOCK
SUMMARY:Offene Fotowerkstatt - SCHWARZ+ WEIß (25E1010102) 
LOCATION:1.01 Fotowerkstatt, Friedrichstraße 23, 18057 Rostock
END:VEVENT
BEGIN:VEVENT
DTSTAMP:20260420T105117
DTSTART;TZID=Europe/Berlin:20260622T173000
DTEND;TZID=Europe/Berlin:20260622T203000
UID:25E1010102-20260622T173000@KSRROSTOCK
SUMMARY:Offene Fotowerkstatt - SCHWARZ+ WEIß (25E1010102) 
LOCATION:1.01 Fotowerkstatt, Friedrichstraße 23, 18057 Rostock
END:VEVENT
BEGIN:VEVENT
DTSTAMP:20260420T105117
DTSTART;TZID=Europe/Berlin:20260630T173000
DTEND;TZID=Europe/Berlin:20260630T203000
UID:25E1010102-20260630T173000@KSRROSTOCK
SUMMARY:Offene Fotowerkstatt - SCHWARZ+ WEIß (25E1010102) 
LOCATION:1.01 Fotowerkstatt, Friedrichstraße 23, 18057 Rostock
END:VEVENT
BEGIN:VEVENT
DTSTAMP:20260420T105117
DTSTART;TZID=Europe/Berlin:20260707T173000
DTEND;TZID=Europe/Berlin:20260707T203000
UID:25E1010102-20260707T173000@KSRROSTOCK
SUMMARY:Offene Fotowerkstatt - SCHWARZ+ WEIß (25E1010102) 
LOCATION:1.01 Fotowerkstatt, Friedrichstraße 23, 18057 Rostock
END:VEVENT
END:VCALENDAR